BEGIN:VCALENDAR
VERSION:2.0
PRODID:Events Booking
BEGIN:VEVENT
UID:69ea381601a3c
SUMMARY:Webinar: The New Local Plan System - Francis Taylor Building
DESCRIPTION:
DTSTART:20251211T130000Z
DTSTAMP:20251204T151521Z
ORGANIZER;CN=Local Government Lawyer:MAILTO:derek.bedlow@localgovernmentlaw
 yer.co.uk
END:VEVENT
END:VCALENDAR