BEGIN:VCALENDAR
VERSION:2.0
PRODID:Events Booking
BEGIN:VEVENT
UID:69e5e0b48d6b8
SUMMARY:London Planning Conference 2026 - Landmark Chambers
DESCRIPTION:
DTSTART:20260616T071500Z
DTSTAMP:20260211T104507Z
ORGANIZER;CN=Local Government Lawyer:MAILTO:derek.bedlow@localgovernmentlaw
 yer.co.uk
END:VEVENT
END:VCALENDAR